BEGIN:VCALENDAR
VERSION:2.0
METHOD:PUBLISH
CALSCALE:GREGORIAN
PRODID:-//Helios Calendar//EN
X-FROM-URL:https://www.wncc.edu/calendar/index.php?eID=1035
X-WR-RELCALID:WNCC Calendar WNCC Education & Career Fairs: Health Sciences & Health Occupations 20231005T160000
X-WR-TIMEZONE:Europe/London
X-WR-CALNAME:WNCC Calendar
BEGIN:VEVENT
URL;VALUE=URI:https://www.wncc.edu/calendar/index.php?eID=1035
DTSTART:20231005T160000
DTEND:20231005T190000
SUMMARY:WNCC Education & Career Fairs: Health Sciences & Health Occupations
DESCRIPTION:Give Healthcare a Shot! Join us to learn more about our health sciences and health occupations programs. Come any time between 4:00 and 7:00 p.m. to talk with industry experts\, discover different... For complete event details please visit:  https://www.wncc.edu/calendar/?eID=1035\n______________________________\nEvent Downloaded Powered by OU Calendar
LOCATION:John N Harms Center - 2620 College Park \, Scottsbluff\, NE United States 69361
CATEGORIES:WNCC Calendar Events
PRIORITY:0
TRANSP:TRANSPARENT
END:VEVENT
END:VCALENDAR