BEGIN:VCALENDAR
VERSION:2.0
METHOD:PUBLISH
CALSCALE:GREGORIAN
PRODID:-//Helios Calendar//EN
X-FROM-URL:https://www.wncc.edu/calendar/index.php?eID=1218
X-WR-RELCALID:WNCC Calendar Theatre Arts | The Theory of Relativity 20251017T193000
X-WR-TIMEZONE:Europe/London
X-WR-CALNAME:WNCC Calendar
BEGIN:VEVENT
URL;VALUE=URI:https://www.wncc.edu/calendar/index.php?eID=1218
DTSTART:20251017T193000
DTEND:20251017T193000
SUMMARY:Theatre Arts | The Theory of Relativity
DESCRIPTION:WNCC Theatre Arts presents The Theory of Relativity - a joyous and moving look about our surprisingly interconnected lives. Whether you're allergic to cats\, in love for the first or tenth time\,... For complete event details please visit:  https://www.wncc.edu/calendar/?eID=1218\n______________________________\nEvent Downloaded Powered by OU Calendar
LOCATION:WNCC Performing Arts Center - 1601 E. 27th St. \, Scottsbluff\, NE  69361
CATEGORIES:WNCC Calendar Events
PRIORITY:0
TRANSP:TRANSPARENT
END:VEVENT
END:VCALENDAR