BEGIN:VCALENDAR
VERSION:2.0
METHOD:PUBLISH
CALSCALE:GREGORIAN
PRODID:-//Helios Calendar//EN
X-FROM-URL:https://www.wncc.edu/calendar/index.php?eID=1221
X-WR-RELCALID:WNCC Calendar Ghostly Gallop 5K 20251018T080000
X-WR-TIMEZONE:Europe/London
X-WR-CALNAME:WNCC Calendar
BEGIN:VEVENT
URL;VALUE=URI:https://www.wncc.edu/calendar/index.php?eID=1221
DTSTART:20251018T080000
DTEND:20251018T080000
SUMMARY:Ghostly Gallop 5K
DESCRIPTION:Lace up your running shoes for a spooktacular time! Join us for the Ghostly Gallop 5K hosted by the WNCC Student Nursing Association! Wear your best costume and run (or walk) for fun! Register by... For complete event details please visit:  https://www.wncc.edu/calendar/?eID=1221\n______________________________\nEvent Downloaded Powered by OU Calendar
LOCATION:John N Harms Center - 2620 College Park \, Scottsbluff\, NE United States 69361
CATEGORIES:WNCC Calendar Events
PRIORITY:0
TRANSP:TRANSPARENT
END:VEVENT
END:VCALENDAR