BEGIN:VCALENDAR
VERSION:2.0
METHOD:PUBLISH
CALSCALE:GREGORIAN
PRODID:-//Helios Calendar//EN
X-FROM-URL:https://www.wncc.edu/calendar/index.php?eID=1251
X-WR-RELCALID:WNCC Calendar Health Sciences Ribbon Cutting 20260126T160000
X-WR-TIMEZONE:Europe/London
X-WR-CALNAME:WNCC Calendar
BEGIN:VEVENT
URL;VALUE=URI:https://www.wncc.edu/calendar/index.php?eID=1251
DTSTART:20260126T160000
DTEND:20260126T160000
SUMMARY:Health Sciences Ribbon Cutting
DESCRIPTION:Join us for the ribbon cutting and grand opening of our new Health Sciences space. This event will also serve as a Scottsbluff/Gering Chamber Business After Hours\, bringing together community members\,... For complete event details please visit:  https://www.wncc.edu/calendar/?eID=1251\n______________________________\nEvent Downloaded Powered by OU Calendar
LOCATION:WNCC Health Sciences - 2620 College Park \, Scottsbluff\, NE  69361
CATEGORIES:WNCC Calendar Events
PRIORITY:0
TRANSP:TRANSPARENT
END:VEVENT
END:VCALENDAR