BEGIN:VCALENDAR
VERSION:2.0
METHOD:PUBLISH
CALSCALE:GREGORIAN
PRODID:-//Helios Calendar//EN
X-FROM-URL:https://www.wncc.edu/calendar/index.php?eID=1265
X-WR-RELCALID:WNCC Calendar 2026 Week of the Young Child Kickoff Celebration 20260411T100000
X-WR-TIMEZONE:Europe/London
X-WR-CALNAME:WNCC Calendar
BEGIN:VEVENT
URL;VALUE=URI:https://www.wncc.edu/calendar/index.php?eID=1265
DTSTART:20260411T100000
DTEND:20260411T130000
SUMMARY:2026 Week of the Young Child Kickoff Celebration
DESCRIPTION:Celebrate young learners and the joy of early childhood at the 2026 Week of the Young Child Kickoff Celebration!Join us for a fun-filled\, family-friendly morning at the Welcome Center on the Scottsbluff... For complete event details please visit:  https://www.wncc.edu/calendar/?eID=1265\n______________________________\nEvent Downloaded Powered by OU Calendar
LOCATION:WNCC Scottsbluff Campus - 1601 E. 27th Street \, Scottsbluff\, NE USA 69361
CATEGORIES:WNCC Calendar Events
PRIORITY:0
TRANSP:TRANSPARENT
END:VEVENT
END:VCALENDAR