BEGIN:VCALENDAR
VERSION:2.0
METHOD:PUBLISH
CALSCALE:GREGORIAN
PRODID:-//Helios Calendar//EN
X-FROM-URL:https://www.wncc.edu/calendar/index.php?eID=1279
X-WR-RELCALID:WNCC Calendar Jump, Jive & Swing 20260503T171500
X-WR-TIMEZONE:Europe/London
X-WR-CALNAME:WNCC Calendar
BEGIN:VEVENT
URL;VALUE=URI:https://www.wncc.edu/calendar/index.php?eID=1279
DTSTART:20260503T171500
DTEND:20260503T171500
SUMMARY:Jump\, Jive & Swing
DESCRIPTION:WNCC Instrumental Music is proud to present Jump\, Jive\, and Swing\, a fun evening of toe-tapping music from our talented WNCC instrumental groups.Preshow begins at 5:15 p.m. Dinner and dancing starts... For complete event details please visit:  https://www.wncc.edu/calendar/?eID=1279\n______________________________\nEvent Downloaded Powered by OU Calendar
LOCATION:Hampton Inn & Suites\, Scottsbluff Conference Center - 301 West\, US-26  \, Scottsbluff\, NE  69361
CATEGORIES:WNCC Calendar Events
PRIORITY:0
TRANSP:TRANSPARENT
END:VEVENT
END:VCALENDAR