BEGIN:VCALENDAR
VERSION:2.0
METHOD:PUBLISH
CALSCALE:GREGORIAN
PRODID:-//Helios Calendar//EN
X-FROM-URL:https://www.wncc.edu/calendar/index.php?eID=413
X-WR-RELCALID:WNCC Calendar Back to School BBQ, Sidney 20200124T110000
X-WR-TIMEZONE:Europe/London
X-WR-CALNAME:WNCC Calendar
BEGIN:VEVENT
URL;VALUE=URI:https://www.wncc.edu/calendar/index.php?eID=413
DTSTART:20200124T110000
DTEND:20200124T130000
SUMMARY:Back to School BBQ\, Sidney
DESCRIPTION:Back to School BBQ\, Sidney For complete event details please visit:  https://www.wncc.edu/calendar/?eID=413\n______________________________\nEvent Downloaded Powered by OU Calendar
LOCATION:WNCC Sidney Campus - 371 S College Dr \, Sidney\, NE  69162
CATEGORIES:WNCC Calendar Events
PRIORITY:0
TRANSP:TRANSPARENT
END:VEVENT
END:VCALENDAR