BEGIN:VCALENDAR
VERSION:2.0
METHOD:PUBLISH
CALSCALE:GREGORIAN
PRODID:-//Helios Calendar//EN
X-FROM-URL:https://www.wncc.edu/calendar/index.php?eID=649
X-WR-RELCALID:WNCC Calendar First and Second Half Loans for First-year, First-time Borrowers 20210702
X-WR-TIMEZONE:Europe/London
X-WR-CALNAME:WNCC Calendar
BEGIN:VEVENT
URL;VALUE=URI:https://www.wncc.edu/calendar/index.php?eID=649
DTSTART;VALUE=DATE:20210702
DTEND;VALUE=DATE:20210703
SUMMARY:First and Second Half Loans for First-year\, First-time Borrowers
DESCRIPTION:First and Second Half Loans for First-year\, First-time Borrowers For complete event details please visit:  https://www.wncc.edu/calendar/?eID=649\n______________________________\nEvent Downloaded Powered by OU Calendar
LOCATION:All WNCC Campuses -  \, \,   
CATEGORIES:WNCC Calendar Events
PRIORITY:0
TRANSP:TRANSPARENT
END:VEVENT
END:VCALENDAR