BEGIN:VCALENDAR
VERSION:2.0
METHOD:PUBLISH
CALSCALE:GREGORIAN
PRODID:-//Helios Calendar//EN
X-FROM-URL:https://www.wncc.edu/calendar/index.php?eID=755
X-WR-RELCALID:WNCC Calendar Do-It-Yourself Professional Graphics for Digital Media 20210513T100000
X-WR-TIMEZONE:Europe/London
X-WR-CALNAME:WNCC Calendar
BEGIN:VEVENT
URL;VALUE=URI:https://www.wncc.edu/calendar/index.php?eID=755
DTSTART:20210513T100000
DTEND:20210513T113000
SUMMARY:Do-It-Yourself Professional Graphics for Digital Media
DESCRIPTION:Part of Grow Your Small Business " A Free Digital Marketing Series. The class is virtual via Zoom and free!Call 308-635-6701 to register today! For complete event details please visit:  https://www.wncc.edu/calendar/?eID=755\n______________________________\nEvent Downloaded Powered by OU Calendar
LOCATION:Virtual -  \, \,   
CATEGORIES:WNCC Calendar Events
PRIORITY:0
TRANSP:TRANSPARENT
END:VEVENT
END:VCALENDAR