BEGIN:VCALENDAR
VERSION:2.0
METHOD:PUBLISH
CALSCALE:GREGORIAN
PRODID:-//Helios Calendar//EN
X-FROM-URL:https://www.wncc.edu/calendar/index.php?eID=797
X-WR-RELCALID:WNCC Calendar Last day to add/drop | 1st 8 week classes 20210825
X-WR-TIMEZONE:Europe/London
X-WR-CALNAME:WNCC Calendar
BEGIN:VEVENT
URL;VALUE=URI:https://www.wncc.edu/calendar/index.php?eID=797
DTSTART;VALUE=DATE:20210825
DTEND;VALUE=DATE:20210826
SUMMARY:Last day to add/drop | 1st 8 week classes
DESCRIPTION:Last day to drop/add without penalty 1st 8-week classes For complete event details please visit:  https://www.wncc.edu/calendar/?eID=797\n______________________________\nEvent Downloaded Powered by OU Calendar
LOCATION:All WNCC Campuses -  \, \,   
CATEGORIES:WNCC Calendar Events
PRIORITY:0
TRANSP:TRANSPARENT
END:VEVENT
END:VCALENDAR