BEGIN:VCALENDAR
VERSION:2.0
METHOD:PUBLISH
CALSCALE:GREGORIAN
PRODID:-//Helios Calendar//EN
X-FROM-URL:https://www.wncc.edu/calendar/index.php?eID=798
X-WR-RELCALID:WNCC Calendar Last day to add/drop | Full-term classes 20210827
X-WR-TIMEZONE:Europe/London
X-WR-CALNAME:WNCC Calendar
BEGIN:VEVENT
URL;VALUE=URI:https://www.wncc.edu/calendar/index.php?eID=798
DTSTART;VALUE=DATE:20210827
DTEND;VALUE=DATE:20210828
SUMMARY:Last day to add/drop | Full-term classes
DESCRIPTION:Last day to drop/add without penalty full-term classes For complete event details please visit:  https://www.wncc.edu/calendar/?eID=798\n______________________________\nEvent Downloaded Powered by OU Calendar
LOCATION:All WNCC Campuses -  \, \,   
CATEGORIES:WNCC Calendar Events
PRIORITY:0
TRANSP:TRANSPARENT
END:VEVENT
END:VCALENDAR