BEGIN:VCALENDAR
VERSION:2.0
METHOD:PUBLISH
CALSCALE:GREGORIAN
PRODID:-//Helios Calendar//EN
X-FROM-URL:https://www.wncc.edu/calendar/index.php?eID=805
X-WR-RELCALID:WNCC Calendar Grades Due | 1st 8-week classes 20211012
X-WR-TIMEZONE:Europe/London
X-WR-CALNAME:WNCC Calendar
BEGIN:VEVENT
URL;VALUE=URI:https://www.wncc.edu/calendar/index.php?eID=805
DTSTART;VALUE=DATE:20211012
DTEND;VALUE=DATE:20211013
SUMMARY:Grades Due | 1st 8-week classes
DESCRIPTION:Grades due at midnight for 1st 8-week classes For complete event details please visit:  https://www.wncc.edu/calendar/?eID=805\n______________________________\nEvent Downloaded Powered by OU Calendar
LOCATION:All WNCC Campuses -  \, \,   
CATEGORIES:WNCC Calendar Events
PRIORITY:0
TRANSP:TRANSPARENT
END:VEVENT
END:VCALENDAR