BEGIN:VCALENDAR
VERSION:2.0
METHOD:PUBLISH
CALSCALE:GREGORIAN
PRODID:-//Helios Calendar//EN
X-FROM-URL:https://www.wncc.edu/calendar/index.php?eID=845
X-WR-RELCALID:WNCC Calendar First day to register | Summer & Fall 2022 20220328
X-WR-TIMEZONE:Europe/London
X-WR-CALNAME:WNCC Calendar
BEGIN:VEVENT
URL;VALUE=URI:https://www.wncc.edu/calendar/index.php?eID=845
DTSTART;VALUE=DATE:20220328
DTEND;VALUE=DATE:20220329
SUMMARY:First day to register | Summer & Fall 2022
DESCRIPTION:First day to resister for Summer and Fall 2022 For complete event details please visit:  https://www.wncc.edu/calendar/?eID=845\n______________________________\nEvent Downloaded Powered by OU Calendar
LOCATION:All WNCC Campuses -  \, \,   
CATEGORIES:WNCC Calendar Events
PRIORITY:0
TRANSP:TRANSPARENT
END:VEVENT
END:VCALENDAR