BEGIN:VCALENDAR
VERSION:2.0
METHOD:PUBLISH
CALSCALE:GREGORIAN
PRODID:-//Helios Calendar//EN
X-FROM-URL:https://www.wncc.edu/calendar/index.php?eID=861
X-WR-RELCALID:WNCC Calendar Welcome Back Concert 20210826T180000
X-WR-TIMEZONE:Europe/London
X-WR-CALNAME:WNCC Calendar
BEGIN:VEVENT
URL;VALUE=URI:https://www.wncc.edu/calendar/index.php?eID=861
DTSTART:20210826T180000
DTEND:20210826T210000
SUMMARY:Welcome Back Concert
DESCRIPTION:Join us downtown at the Broadway Plaza for our first Welcome Back Concert! Avid Discord will be on the stage starting at 6pm. The first 100 WNCC students who show their Student Engagement button (available... For complete event details please visit:  https://www.wncc.edu/calendar/?eID=861\n______________________________\nEvent Downloaded Powered by OU Calendar
LOCATION:All WNCC Campuses -  \, \,   
CATEGORIES:WNCC Calendar Events
PRIORITY:0
TRANSP:TRANSPARENT
END:VEVENT
END:VCALENDAR