BEGIN:VCALENDAR
VERSION:2.0
METHOD:PUBLISH
CALSCALE:GREGORIAN
PRODID:-//Helios Calendar//EN
X-FROM-URL:https://www.wncc.edu/calendar/index.php?eID=873
X-WR-RELCALID:WNCC Calendar Homecoming | Alumni & Friends Awards Banquet 20211022T170000
X-WR-TIMEZONE:Europe/London
X-WR-CALNAME:WNCC Calendar
BEGIN:VEVENT
URL;VALUE=URI:https://www.wncc.edu/calendar/index.php?eID=873
DTSTART:20211022T170000
DTEND:20211022T170000
SUMMARY:Homecoming | Alumni & Friends Awards Banquet
DESCRIPTION:The WNCC Alumni Association invites all WNCC alumni & friends to the 8th annual awards ceremony and banquet. RSVP requested at https://www.wncc.edu/community/alumni-banquet-rsvp or email alumni@... For complete event details please visit:  https://www.wncc.edu/calendar/?eID=873\n______________________________\nEvent Downloaded Powered by OU Calendar
LOCATION:WNCC Scottsbluff Campus - 1601 E. 27th Street \, Scottsbluff\, NE USA 69361
CATEGORIES:WNCC Calendar Events
PRIORITY:0
TRANSP:TRANSPARENT
END:VEVENT
END:VCALENDAR