BEGIN:VCALENDAR
VERSION:2.0
METHOD:PUBLISH
CALSCALE:GREGORIAN
PRODID:-//Helios Calendar//EN
X-FROM-URL:https://www.wncc.edu/calendar/index.php?eID=894
X-WR-RELCALID:WNCC Calendar Job & Internship Fair 'Work in Progress' - Sidney Campus 20220218T140000
X-WR-TIMEZONE:Europe/London
X-WR-CALNAME:WNCC Calendar
BEGIN:VEVENT
URL;VALUE=URI:https://www.wncc.edu/calendar/index.php?eID=894
DTSTART:20220218T140000
DTEND:20220218T160000
SUMMARY:Job & Internship Fair 'Work in Progress' - Sidney Campus
DESCRIPTION:Make sure you are ready for our Job & Internship Fair on February 24 by attending a "Work in Progress" session! Our team of professionals will help you put together an effective and top-notch... For complete event details please visit:  https://www.wncc.edu/calendar/?eID=894\n______________________________\nEvent Downloaded Powered by OU Calendar
LOCATION:WNCC Sidney Campus - 371 S College Dr \, Sidney\, NE  69162
CATEGORIES:WNCC Calendar Events
PRIORITY:0
TRANSP:TRANSPARENT
END:VEVENT
END:VCALENDAR