BEGIN:VCALENDAR
VERSION:2.0
METHOD:PUBLISH
CALSCALE:GREGORIAN
PRODID:-//Helios Calendar//EN
X-FROM-URL:https://www.wncc.edu/calendar/index.php?eID=902
X-WR-RELCALID:WNCC Calendar Operational Excellence Workshops: Problem Solving Techniques & Tools 20220526T093000
X-WR-TIMEZONE:Europe/London
X-WR-CALNAME:WNCC Calendar
BEGIN:VEVENT
URL;VALUE=URI:https://www.wncc.edu/calendar/index.php?eID=902
DTSTART:20220526T093000
DTEND:20220526T153000
SUMMARY:Operational Excellence Workshops: Problem Solving Techniques & Tools
DESCRIPTION:WNCC & UNL Manufacturing Extension Partnership Operational Excellence Workshops This interactive training provides supervisors and key employees with a basic overview of the problem-solving process. The... For complete event details please visit:  https://www.wncc.edu/calendar/?eID=902\n______________________________\nEvent Downloaded Powered by OU Calendar
LOCATION:John N. Harms Center - WNCC Scottsbluff Campus - 2620 College Park \, Scottsbluff\, NE  69361
CATEGORIES:WNCC Calendar Events
PRIORITY:0
TRANSP:TRANSPARENT
END:VEVENT
END:VCALENDAR