BEGIN:VCALENDAR
VERSION:2.0
METHOD:PUBLISH
CALSCALE:GREGORIAN
PRODID:-//Helios Calendar//EN
X-FROM-URL:https://www.wncc.edu/calendar/index.php?eID=904
X-WR-RELCALID:WNCC Calendar Operational Excellence Workshops: Job Relations Skills 20220317T093000
X-WR-TIMEZONE:Europe/London
X-WR-CALNAME:WNCC Calendar
BEGIN:VEVENT
URL;VALUE=URI:https://www.wncc.edu/calendar/index.php?eID=904
DTSTART:20220317T093000
DTEND:20220317T153000
SUMMARY:Operational Excellence Workshops: Job Relations Skills
DESCRIPTION:WNCC & UNL Manufacturing Extension Partnership Operational Excellence Workshops Job Relations (JR) teaches supervisors how to evaluate and take proper actions to handle and to prevent people-problems.... For complete event details please visit:  https://www.wncc.edu/calendar/?eID=904\n______________________________\nEvent Downloaded Powered by OU Calendar
LOCATION:John N. Harms Center - WNCC Scottsbluff Campus - 2620 College Park \, Scottsbluff\, NE  69361
CATEGORIES:WNCC Calendar Events
PRIORITY:0
TRANSP:TRANSPARENT
END:VEVENT
END:VCALENDAR