BEGIN:VCALENDAR
VERSION:2.0
METHOD:PUBLISH
CALSCALE:GREGORIAN
PRODID:-//Helios Calendar//EN
X-FROM-URL:https://www.wncc.edu/calendar/index.php?eID=910
X-WR-RELCALID:WNCC Calendar WNCC Scottsbluff Job & Internship Fair 20220324T140000
X-WR-TIMEZONE:Europe/London
X-WR-CALNAME:WNCC Calendar
BEGIN:VEVENT
URL;VALUE=URI:https://www.wncc.edu/calendar/index.php?eID=910
DTSTART:20220324T140000
DTEND:20220324T170000
SUMMARY:WNCC Scottsbluff Job & Internship Fair
DESCRIPTION:Looking for a full-time job\, part-time job\, new career or even an internship? Attend this event to meet employers from the region who are HIRING. It's free for all Panhandle community members\, high... For complete event details please visit:  https://www.wncc.edu/calendar/?eID=910\n______________________________\nEvent Downloaded Powered by OU Calendar
LOCATION:WNCC Scottsbluff Campus - 1601 E. 27th Street \, Scottsbluff\, NE USA 69361
CATEGORIES:WNCC Calendar Events
PRIORITY:0
TRANSP:TRANSPARENT
END:VEVENT
END:VCALENDAR