BEGIN:VCALENDAR
VERSION:2.0
METHOD:PUBLISH
CALSCALE:GREGORIAN
PRODID:-//Helios Calendar//EN
X-FROM-URL:https://www.wncc.edu/calendar/index.php?eID=916
X-WR-RELCALID:WNCC Calendar Applied Technologies Day 20220406T090000
X-WR-TIMEZONE:Europe/London
X-WR-CALNAME:WNCC Calendar
BEGIN:VEVENT
URL;VALUE=URI:https://www.wncc.edu/calendar/index.php?eID=916
DTSTART:20220406T090000
DTEND:20220406T140000
SUMMARY:Applied Technologies Day
DESCRIPTION:You will have the opportunity to learn about an exciting career in Automotive Technology\, Aviation Maintenance\, CDL\, Collision Repair & Refinish Technology\, Diesel\, Truck & Heavy Equipment... For complete event details please visit:  https://www.wncc.edu/calendar/?eID=916\n______________________________\nEvent Downloaded Powered by OU Calendar
LOCATION:WNCC Scottsbluff Campus - 1601 E. 27th Street \, Scottsbluff\, NE USA 69361
CATEGORIES:WNCC Calendar Events
PRIORITY:0
TRANSP:TRANSPARENT
END:VEVENT
END:VCALENDAR