BEGIN:VCALENDAR
VERSION:2.0
METHOD:PUBLISH
CALSCALE:GREGORIAN
PRODID:-//Helios Calendar//EN
X-FROM-URL:https://www.wncc.edu/calendar/index.php?eID=973
X-WR-RELCALID:WNCC Calendar Applied Technologies Expo 20230405T090000
X-WR-TIMEZONE:Europe/London
X-WR-CALNAME:WNCC Calendar
BEGIN:VEVENT
URL;VALUE=URI:https://www.wncc.edu/calendar/index.php?eID=973
DTSTART:20230405T090000
DTEND:20230405T140000
SUMMARY:Applied Technologies Expo
DESCRIPTION:At WNCC's Applied Technologies Expo you will have the opportunity to learn an exciting and relevant skill that will ensure you are easily employable and have a competitive advantage in one of today's... For complete event details please visit:  https://www.wncc.edu/calendar/?eID=973\n______________________________\nEvent Downloaded Powered by OU Calendar
LOCATION:WNCC Scottsbluff Campus - 1601 E. 27th Street \, Scottsbluff\, NE USA 69361
CATEGORIES:WNCC Calendar Events
PRIORITY:0
TRANSP:TRANSPARENT
END:VEVENT
END:VCALENDAR