BEGIN:VCALENDAR
VERSION:2.0
METHOD:PUBLISH
CALSCALE:GREGORIAN
PRODID:-//Helios Calendar//EN
X-FROM-URL:https://www.wncc.edu/calendar/index.php?eID=984
X-WR-RELCALID:WNCC Calendar Kathy Bresnahan Presentation 20230403T180000
X-WR-TIMEZONE:Europe/London
X-WR-CALNAME:WNCC Calendar
BEGIN:VEVENT
URL;VALUE=URI:https://www.wncc.edu/calendar/index.php?eID=984
DTSTART:20230403T180000
DTEND:20230403T180000
SUMMARY:Kathy Bresnahan Presentation
DESCRIPTION:Kathy Bresnahan has toured the country talking about overcoming adversity\, making the people around you better\, and promoting kindness. Author of "The Miracle Season\," Coach Bresnahan talks about... For complete event details please visit:  https://www.wncc.edu/calendar/?eID=984\n______________________________\nEvent Downloaded Powered by OU Calendar
LOCATION:WNCC Scottsbluff Campus - 1601 E. 27th Street \, Scottsbluff\, NE USA 69361
CATEGORIES:WNCC Calendar Events
PRIORITY:0
TRANSP:TRANSPARENT
END:VEVENT
END:VCALENDAR